BEGIN:VCALENDAR
VERSION:2.0
PRODID:-//ChamberMaster//Event Calendar 2.0//EN
METHOD:PUBLISH
X-PUBLISHED-TTL:P1H
REFRESH-INTERVAL:P1H
CALSCALE:GREGORIAN
BEGIN:VTIMEZONE
TZID:America/Chicago
BEGIN:DAYLIGHT
RRULE:FREQ=YEARLY;BYMONTH=3;BYDAY=2SU
DTSTART:20070101T000000
TZOFFSETFROM:-0600
TZOFFSETTO:-0500
TZNAME:Central Daylight Time
END:DAYLIGHT
BEGIN:STANDARD
RRULE:FREQ=YEARLY;BYMONTH=11;BYDAY=1SU
DTSTART:20070101T000000
TZOFFSETFROM:-0500
TZOFFSETTO:-0600
TZNAME:Central Standard Time
END:STANDARD
END:VTIMEZONE
BEGIN:VEVENT
DTSTART;TZID=America/Chicago:20260520T091500
DTEND;TZID=America/Chicago:20260520T100000
X-MICROSOFT-CDO-ALLDAYEVENT:FALSE
SUMMARY:Log In & Leverage: Master Your Chamber Portal and McKinney Today
DESCRIPTION:Your key to mastering the Chamber Member Portal and McKinney Today. Learn how to update your profile\, post events and deals\, connect with fellow members\, and maximize your online presence. This hands-on session will help you navigate these powerful platforms with ease so you can make the most of your membership!
X-ALT-DESC;FMTTYPE=text/html:<!DOCTYPE html><html><head><title></title></head><body aria-disabled="false"><p style="text-align: center\;"><span style="font-size: 24px\;">Your key to mastering the Chamber Member Portal and McKinney Today. Learn how to update your profile\, post events and deals\, connect with fellow members\, and maximize your online presence. This hands-on session will help you navigate these powerful platforms with ease&mdash\;so you can make the most of your membership!</span></p></body></html>
LOCATION:501 E. Louisiana Street McKinney TX 75069
UID:e.3715.1449554
SEQUENCE:3
DTSTAMP:20260423T155033Z
URL:https://business.mckinneychamber.com/events/Details/log-in-leverage-master-your-chamber-portal-and-mckinney-today-1717003?sourceTypeId=Hub
END:VEVENT
END:VCALENDAR
